BEGIN:VCALENDAR
VERSION:2.0
PRODID:Greensboro, NC Calendar Creator
METHOD:PUBLISH
BEGIN:VEVENT
DTSTAMP:20180109T031834
DTSTART:20111010T190000
DTEND:20111010T200000
SUMMARY:Reptile and Amphibian Science
DESCRIPTION:Join us for an evening with amphibians and reptiles. Learn how to identify them and how to distinguish different frog calls. Boy Scouts can earn merit badge credit.
X-ALT-DESC;FMTTYPE=text/html:Join us for an evening with amphibians and reptiles. Learn how to identify them and how to distinguish different frog calls. Boy Scouts can earn merit badge credit.
LOCATION:Kathleen Clay Edwards Library\, 1420 Price Park Rd. Greensboro\, North Carolina 27410
CLASS:PUBLIC
END:VEVENT
END:VCALENDAR
