BEGIN:VCALENDAR
VERSION:2.0
PRODID:Greensboro, NC Calendar Creator
METHOD:PUBLISH
BEGIN:VEVENT
DTSTAMP:20180109T031834
DTSTART:20111012T190000
DTEND:20111012T210000
SUMMARY:Horror Film Festival
DESCRIPTION:Screening of <em>Horror High</em>, 1974, PG.
X-ALT-DESC;FMTTYPE=text/html:Screening of <em>Horror High</em>, 1974, PG.
LOCATION:Hemphill Branch Library\, 2301 West Vandalia Road Greensboro\, North Carolina 27407
CLASS:PUBLIC
END:VEVENT
END:VCALENDAR
