BEGIN:VCALENDAR
VERSION:2.0
PRODID:Greensboro, NC Calendar Creator
METHOD:PUBLISH
BEGIN:VEVENT
DTSTAMP:20180109T031834
DTSTART:20111015T140000
DTEND:20111015T150000
SUMMARY:Gone with the Wind
DESCRIPTION:Discussing <em>Gone with the Wind</em> by Margaret Mitchell to commemorate the 75th anniversary of its publication.
X-ALT-DESC;FMTTYPE=text/html:Discussing <em>Gone with the Wind</em> by Margaret Mitchell to commemorate the 75th anniversary of its publication.
LOCATION:Hemphill Branch Library\, 2301 West Vandalia Road Greensboro\, North Carolina 27407
CLASS:PUBLIC
END:VEVENT
END:VCALENDAR
