BEGIN:VCALENDAR
VERSION:2.0
PRODID:Greensboro, NC Calendar Creator
METHOD:PUBLISH
BEGIN:VEVENT
DTSTAMP:20180109T031834
DTSTART:20111005T093000
DTEND:20111005T100000
SUMMARY:Story Time at Kathleen Clay Library
DESCRIPTION:Fire Fighters and Fire Engines - stories, finger plays, and short movies for ages 1-5, 9:30 am, 10:30 am, 11:30 am.
X-ALT-DESC;FMTTYPE=text/html:Fire Fighters and Fire Engines - stories, finger plays, and short movies for ages 1-5, 9:30 am, 10:30 am, 11:30 am.
LOCATION:Kathleen Clay Edwards Library\, 1420 Price Park Rd. Greensboro\, North Carolina 27410
CLASS:PUBLIC
END:VEVENT
END:VCALENDAR
