BEGIN:VCALENDAR
VERSION:2.0
PRODID:Greensboro, NC Calendar Creator
METHOD:PUBLISH
BEGIN:VEVENT
DTSTAMP:20180109T031834
DTSTART:20110921T160000
DTEND:20110921T170000
SUMMARY:Apple Jack
DESCRIPTION:Come enjoy stories and create a craft.
X-ALT-DESC;FMTTYPE=text/html:Come enjoy stories and create a craft.
LOCATION:McGirt-Horton Branch Library\, 2501 Phillips Avenue Greensboro\, North Carolina 27405
CLASS:PUBLIC
END:VEVENT
END:VCALENDAR
