BEGIN:VCALENDAR
VERSION:2.0
PRODID:Greensboro, NC Calendar Creator
METHOD:PUBLISH
BEGIN:VEVENT
DTSTAMP:20180109T031834
DTSTART:20110926T100000
DTEND:20110926T100000
SUMMARY:Monday Morning Movie
DESCRIPTION:Come and enjoy a movie with us!
X-ALT-DESC;FMTTYPE=text/html:Come and enjoy a movie with us!
LOCATION:McGirt-Horton Branch Library\, 2501 Phillips Avenue Greensboro\, North Carolina 27405
CLASS:PUBLIC
END:VEVENT
END:VCALENDAR
