BEGIN:VCALENDAR
VERSION:2.0
PRODID:Greensboro, NC Calendar Creator
METHOD:PUBLISH
BEGIN:VEVENT
DTSTAMP:20180109T031834
DTSTART:20110928T160000
DTEND:20110928T170000
SUMMARY:Checkers Day
DESCRIPTION:Come enjoy stories, learn to play the game, and create a craft.
X-ALT-DESC;FMTTYPE=text/html:Come enjoy stories, learn to play the game, and create a craft.
LOCATION:McGirt-Horton Branch Library\, 2501 Phillips Avenue Greensboro\, North Carolina 27405
CLASS:PUBLIC
END:VEVENT
END:VCALENDAR
