BEGIN:VCALENDAR
VERSION:2.0
PRODID:Greensboro, NC Calendar Creator
METHOD:PUBLISH
BEGIN:VEVENT
DTSTAMP:20180109T031834
DTSTART:20110909T120000
DTEND:20110909T140000
SUMMARY:McGirt-Horton Book Discussion
DESCRIPTION:The McGirt-Horton Book Discussion will be discussing the book <em>Wrench</em> by Deolen-Perkins-Valdez.
X-ALT-DESC;FMTTYPE=text/html:The McGirt-Horton Book Discussion will be discussing the book <em>Wrench</em> by Deolen-Perkins-Valdez.
LOCATION:McGirt-Horton Branch Library\, 2501 Phillips Avenue Greensboro\, North Carolina 27405
CLASS:PUBLIC
END:VEVENT
END:VCALENDAR
