BEGIN:VCALENDAR
VERSION:2.0
PRODID:Greensboro, NC Calendar Creator
METHOD:PUBLISH
BEGIN:VEVENT
DTSTAMP:20180109T031834
DTSTART:20110920T100000
DTEND:20110920T110000
SUMMARY:Vegetables, Colors, and Hugs
DESCRIPTION:Come and enjoy stories, songs, felt board, and crafts.
X-ALT-DESC;FMTTYPE=text/html:Come and enjoy stories, songs, felt board, and crafts.
LOCATION:McGirt-Horton Branch Library\, 2501 Phillips Avenue Greensboro\, North Carolina 27405
CLASS:PUBLIC
END:VEVENT
END:VCALENDAR
