BEGIN:VCALENDAR
VERSION:2.0
PRODID:Greensboro, NC Calendar Creator
METHOD:PUBLISH
BEGIN:VEVENT
DTSTAMP:20180109T031834
DTSTART:20110927T120000
DTEND:20110927T130000
SUMMARY:Northeast Book Discussion Group
DESCRIPTION:The Northeast Book Discussion Group will be discussing <em>Cutting for Stone</em> by Abraham Verghese.
X-ALT-DESC;FMTTYPE=text/html:The Northeast Book Discussion Group will be discussing <em>Cutting for Stone</em> by Abraham Verghese.
LOCATION:Benjamin Branch\, 1530 Benjamin Parkway Greensboro\, North Carolina 27408
CLASS:PUBLIC
END:VEVENT
END:VCALENDAR
