BEGIN:VCALENDAR
VERSION:2.0
PRODID:Greensboro, NC Calendar Creator
METHOD:PUBLISH
BEGIN:VEVENT
DTSTAMP:20180109T031834
DTSTART:20110905T093000
DTEND:20110905T094500
SUMMARY:Mother Goose Story Time
DESCRIPTION:Short, interactive program of stories and finger plays for infants 0-18 months.
X-ALT-DESC;FMTTYPE=text/html:Short, interactive program of stories and finger plays for infants 0-18 months.
LOCATION:Benjamin Branch\, 1530 Benjamin Parkway Greensboro\, North Carolina 27408
CLASS:PUBLIC
END:VEVENT
END:VCALENDAR
