BEGIN:VCALENDAR
VERSION:2.0
PRODID:Greensboro, NC Calendar Creator
METHOD:PUBLISH
BEGIN:VEVENT
DTSTAMP:20180109T031834
DTSTART:20110901T133000
DTEND:20110901T143000
SUMMARY:Preschool Story Time
DESCRIPTION:Stories, finger plays, and short movies. Call the branch 336-373-7540 for details.
X-ALT-DESC;FMTTYPE=text/html:Stories, finger plays, and short movies. Call the branch 336-373-7540 for details.
LOCATION:Benjamin Branch\, 1530 Benjamin Parkway Greensboro\, North Carolina 27408
CLASS:PUBLIC
END:VEVENT
END:VCALENDAR
