BEGIN:VCALENDAR
VERSION:2.0
PRODID:Greensboro, NC Calendar Creator
METHOD:PUBLISH
BEGIN:VEVENT
DTSTAMP:20180109T031834
DTSTART:20111025T143000
DTEND:20111025T163000
SUMMARY:City Council Work Session
DESCRIPTION:A Special Meeting has been scheduled for 3 pm in Council Chamber. <a href="https://greensboro2.prod-as.govaccess.org/?navid=2858" target="_self">Read more</a>.
X-ALT-DESC;FMTTYPE=text/html:A Special Meeting has been scheduled for 3 pm in Council Chamber. <a href="https://greensboro2.prod-as.govaccess.org/?navid=2858" target="_self">Read more</a>.
LOCATION:Plaza Level Conference Room\, Melvin Municipal Office Building\, 300 W. Washington St. Greensboro\, North Carolina 27402
CLASS:PUBLIC
END:VEVENT
END:VCALENDAR
