BEGIN:VCALENDAR
VERSION:2.0
PRODID:Greensboro, NC Calendar Creator
METHOD:PUBLISH
BEGIN:VEVENT
DTSTAMP:20180109T031834
DTSTART:20111019T160000
DTEND:20111019T173000
SUMMARY:After School Craft Time
DESCRIPTION:Halloween is just around the corner. Join us to create some creepy crafts.
X-ALT-DESC;FMTTYPE=text/html:Halloween is just around the corner. Join us to create some creepy crafts.
LOCATION:Vance H. Chavis Branch\, 900 S. Benbow Rd Greensboro\, North Carolina 27406
CLASS:PUBLIC
END:VEVENT
END:VCALENDAR
