BEGIN:VCALENDAR
VERSION:2.0
PRODID:Greensboro, NC Calendar Creator
METHOD:PUBLISH
BEGIN:VEVENT
DTSTAMP:20180109T031834
DTSTART:20110917T150000
DTEND:20110917T173000
SUMMARY:XBOX 360 - 2K10 Day
DESCRIPTION:Bring your friends and have some fun playing 2K10 on XBOX 360. Let's see who has skills!
X-ALT-DESC;FMTTYPE=text/html:Bring your friends and have some fun playing 2K10 on XBOX 360. Let's see who has skills!
LOCATION:McGirt-Horton Branch Library\, 2501 Phillips Avenue Greensboro\, North Carolina 27405
CLASS:PUBLIC
END:VEVENT
END:VCALENDAR
